BEGIN:VCALENDAR
VERSION:2.0
PRODID:-//ChamberMaster//Event Calendar 2.0//EN
METHOD:PUBLISH
X-PUBLISHED-TTL:P3D
REFRESH-INTERVAL:P3D
CALSCALE:GREGORIAN
BEGIN:VEVENT
DTSTART:20260507T200000Z
DTEND:20260507T210000Z
X-MICROSOFT-CDO-ALLDAYEVENT:FALSE
SUMMARY:Ribbon Cutting for June Belle Homes
DESCRIPTION:Ribbon Cutting for June Belle Homes
X-ALT-DESC;FMTTYPE=text/html:Ribbon Cutting for June Belle Homes
LOCATION:259 Main Street West Valdese\, NC 28690
UID:e.1715.11011
SEQUENCE:3
DTSTAMP:20260424T230020Z
URL:https://business.burkecountychamber.org/events/details/ribbon-cutting-for-june-belle-homes-11011
END:VEVENT

END:VCALENDAR
