BEGIN:VCALENDAR
VERSION:2.0
PRODID:-//ChamberMaster//Event Calendar 2.0//EN
METHOD:PUBLISH
X-PUBLISHED-TTL:P3D
REFRESH-INTERVAL:P3D
CALSCALE:GREGORIAN
BEGIN:VEVENT
DTSTART:20211008T180000Z
DTEND:20211008T190000Z
X-MICROSOFT-CDO-ALLDAYEVENT:FALSE
SUMMARY:Ribbon Cutting for Foothills Family Dermatology
DESCRIPTION:Ribbon Cutting for Foothills Family Dermatology
X-ALT-DESC;FMTTYPE=text/html:Ribbon Cutting for Foothills Family Dermatology
LOCATION:109 East Fleming Drive Suite 106 Morganton\, NC 28655
UID:e.1715.8478
SEQUENCE:3
DTSTAMP:20260424T145202Z
URL:https://business.burkecountychamber.org/events/details/ribbon-cutting-for-foothills-family-dermatology-8478
END:VEVENT

END:VCALENDAR
