BEGIN:VCALENDAR
VERSION:2.0
PRODID:-//ChamberMaster//Event Calendar 2.0//EN
METHOD:PUBLISH
X-PUBLISHED-TTL:P3D
REFRESH-INTERVAL:P3D
CALSCALE:GREGORIAN
BEGIN:VEVENT
DTSTART:20260508T190000Z
DTEND:20260508T200000Z
X-MICROSOFT-CDO-ALLDAYEVENT:FALSE
SUMMARY:Ribbon Cutting for Carolina Premier Construction & Coatings
DESCRIPTION:Ribbon Cutting for Carolina Premier Construction & Coatings
X-ALT-DESC;FMTTYPE=text/html:Ribbon Cutting for Carolina Premier Construction &amp\; Coatings
LOCATION:116 Stephens Road Morganton\, NC 28655
UID:e.1715.11012
SEQUENCE:3
DTSTAMP:20260424T235220Z
URL:https://business.burkecountychamber.org/events/details/ribbon-cutting-for-carolina-premier-construction-coatings-11012
END:VEVENT

END:VCALENDAR
