BEGIN:VCALENDAR
VERSION:2.0
PRODID:-//ChamberMaster//Event Calendar 2.0//EN
METHOD:PUBLISH
X-PUBLISHED-TTL:P3D
REFRESH-INTERVAL:P3D
CALSCALE:GREGORIAN
BEGIN:VEVENT
DTSTART:20260312T113000Z
DTEND:20260312T133000Z
X-MICROSOFT-CDO-ALLDAYEVENT:FALSE
SUMMARY:Burke Business Brew
DESCRIPTION:Burke Business Brew (formerly Coffee with the Staff)\n\nA networking and educational event for new and long-time members.\n\n\nWhat to expect:\n\n  Coffee \n\n Light Refreshments \n\n  Networking  \n\n\n\nThis is a drop-in event and is FREE to attend. RSVP requested.
X-ALT-DESC;FMTTYPE=text/html:<p><span style="font-size:28px\;"><strong>Burke Business Brew&nbsp\;(formerly Coffee with the Staff)</strong></span><br />\n<span style="font-size:14px\;"><em><strong>A networking and educational event for new and long-time members.</strong></em></span></p>\n<br />\n<strong><span style="font-size:18px\;">What to expect:</span></strong><br />\n<span style="font-size:16px\;"><span style="font-size:14px\;">&#9658\; Coffee </span></span><br />\n<span style="font-size: 14px\;">&#9658\;L</span><span style="font-size:16px\;"><span style="font-size:14px\;">ight Refreshments&nbsp\;<br />\n&#9658\; Networking &#129309\;</span><br />\n<br />\n<span style="font-size:14px\;">This is a drop-in event and is FREE to attend. RSVP requested.</span></span>
LOCATION:Burke County Chamber of Commerce
UID:e.1715.10832
SEQUENCE:3
DTSTAMP:20260420T025450Z
URL:https://business.burkecountychamber.org/events/details/burke-business-brew-10832
END:VEVENT

END:VCALENDAR
