BEGIN:VCALENDAR
VERSION:2.0
PRODID:-//ChamberMaster//Event Calendar 2.0//EN
METHOD:PUBLISH
X-PUBLISHED-TTL:P3D
REFRESH-INTERVAL:P3D
CALSCALE:GREGORIAN
BEGIN:VEVENT
DTSTART:20201019T160000Z
DTEND:20201019T170000Z
X-MICROSOFT-CDO-ALLDAYEVENT:FALSE
SUMMARY:Board of Directors
DESCRIPTION:Board of Directors Meeting
X-ALT-DESC;FMTTYPE=text/html:Board of Directors Meeting&nbsp\;&nbsp\;&nbsp\;
LOCATION:
UID:e.1715.2525
SEQUENCE:3
DTSTAMP:20260421T114901Z
URL:https://business.burkecountychamber.org/events/details/board-of-directors-10-12-2020-2525
END:VEVENT

END:VCALENDAR
